Workbook
Name StartDate: calcs!$D$28
Name WindowOffset: calcs!$D$26
Name StartDateWindow: calcs!$D$25
Name RowTitleRegion1..D3: 'Corona timeline'!$C$3
Name WindowDays: calcs!$D$29

Sheet Corona timeline
C1: CORONA Timeline in Pennyslavia
C2: Chart showing project activities with a scrollable timeline is in this cell.
C3: ENTER START DATE: | D3: 43896
B4: Id | C4: ACTIVITY | D4: START | E4: END | F4: NOTES
B5: =ROW(B5)-calcs!$D$5 -> -7 | C5: FIRST CASE RECORDED | D5: =$D$3+3 -> 3/9/2020 | F5: The first corona patient tested positive
B6: =ROW(B6)-calcs!$D$5 -> -6 | C6: First covid-19 death | D6: =D5+5 -> 3/14/2020
B7: =ROW(B7)-calcs!$D$5 -> -5 | C7: Social Distance | D7: =D6+1 -> 3/15/2020
B8: =ROW(B8)-calcs!$D$5 -> -4 | C8: First recovery | D8: =D7+18 -> 4/2/2020
B9: =ROW(B9)-calcs!$D$5 -> -3 | C9: Partial lock down | D9: =D8+10 -> 4/12/2020 | E9: ='Corona timeline'!$D9+15 -> 4/27/2020
B10: =ROW(B10)-calcs!$D$5 -> -2 | C10: Schools Open | D10: =D9+20 -> 5/2/2020 | E10: ='Corona timeline'!$D10+2 -> 5/4/2020
B11: =ROW(B11)-calcs!$D$5 -> -1
B12: =ROW(B12)-calcs!$D$5 -> 0
B13: =ROW(B13)-calcs!$D$5 -> 1
B14: =ROW(B14)-calcs!$D$5 -> 2
B15: =ROW(B15)-calcs!$D$5 -> 3
B16: =ROW(B16)-calcs!$D$5 -> 4

Sheet calcs
A1: *** This sheet should remain hidden ***
C3: Today: | D3: =TODAY() -> 5/14/2020
D4: 5
C5: # of rows | D5: =ROWS('Corona timeline'!$B$5:$F$16) -> 12
E6: =NA() -> #N/A
E7: =NA() -> #N/A
E8: =NA() -> #N/A
C9: Window Activities: | D9: =SUMPRODUCT( (('Corona timeline'!$D$5:$D$16>=StartDateWindow)+('Corona timeline'!$E$5:$E$16>=StartDateWindow)>0)*('Corona timeline'!$D$5:$D$16<=(StartDateWindow+WindowDays-1)) ) -> 3 | E9: =NA() -> #N/A
D10: 9 | E10: =NA() -> #N/A
D11: =D10-MIN(D10,D9) -> 6 | E11: =NA() -> #N/A
E12: =NA() -> #N/A
E13: =NA() -> #N/A
E14: =NA() -> #N/A
E15: {=INDEX('Corona timeline'!$B$5:$B$16,MATCH(1, (('Corona timeline'!$D$5:$D$16>=StartDateWindow)+('Corona timeline'!$E$5:$E$16>=StartDateWindow)>0)*('Corona timeline'!$D$5:$D$16<=(StartDateWindow+WindowDays-1)), 0))} -> -6 | F15: =OFFSET(E15,-$D$11,) -> #N/A
E16: {=INDEX('Corona timeline'!$B$5:$B$16,MATCH(1, ('Corona timeline'!$B$5:$B$16>E15)*(('Corona timeline'!$D$5:$D$16>=StartDateWindow)+('Corona timeline'!$E$5:$E$16>=StartDateWindow)>0)*('Corona timeline'!$D$5:$D$16<=(StartDateWindow+WindowDays-1)), 0))} -> -5 | F16: =OFFSET(E16,-$D$11,) -> #N/A
E17: {=INDEX('Corona timeline'!$B$5:$B$16,MATCH(1, ('Corona timeline'!$B$5:$B$16>E16)*(('Corona timeline'!$D$5:$D$16>=StartDateWindow)+('Corona timeline'!$E$5:$E$16>=StartDateWindow)>0)*('Corona timeline'!$D$5:$D$16<=(StartDateWindow+WindowDays-1)), 0))} -> -4 | F17: =OFFSET(E17,-$D$11,) -> #N/A
E18: {=INDEX('Corona timeline'!$B$5:$B$16,MATCH(1, ('Corona timeline'!$B$5:$B$16>E17)*(('Corona timeline'!$D$5:$D$16>=StartDateWindow)+('Corona timeline'!$E$5:$E$16>=StartDateWindow)>0)*('Corona timeline'!$D$5:$D$16<=(StartDateWindow+WindowDays-1)), 0))} -> #N/A | F18: =OFFSET(E18,-$D$11,) -> #N/A
E19: {=INDEX('Corona timeline'!$B$5:$B$16,MATCH(1, ('Corona timeline'!$B$5:$B$16>E18)*(('Corona timeline'!$D$5:$D$16>=StartDateWindow)+('Corona timeline'!$E$5:$E$16>=StartDateWindow)>0)*('Corona timeline'!$D$5:$D$16<=(StartDateWindow+WindowDays-1)), 0))} -> #N/A | F19: =OFFSET(E19,-$D$11,) -> #N/A
E20: {=INDEX('Corona timeline'!$B$5:$B$16,MATCH(1, ('Corona timeline'!$B$5:$B$16>E19)*(('Corona timeline'!$D$5:$D$16>=StartDateWindow)+('Corona timeline'!$E$5:$E$16>=StartDateWindow)>0)*('Corona timeline'!$D$5:$D$16<=(StartDateWindow+WindowDays-1)), 0))} -> #N/A | F20: =OFFSET(E20,-$D$11,) -> #N/A
E21: {=INDEX('Corona timeline'!$B$5:$B$16,MATCH(1, ('Corona timeline'!$B$5:$B$16>E20)*(('Corona timeline'!$D$5:$D$16>=StartDateWindow)+('Corona timeline'!$E$5:$E$16>=StartDateWindow)>0)*('Corona timeline'!$D$5:$D$16<=(StartDateWindow+WindowDays-1)), 0))} -> #N/A | F21: =OFFSET(E21,-$D$11,) -> -6
E22: {=INDEX('Corona timeline'!$B$5:$B$16,MATCH(1, ('Corona timeline'!$B$5:$B$16>E21)*(('Corona timeline'!$D$5:$D$16>=StartDateWindow)+('Corona timeline'!$E$5:$E$16>=StartDateWindow)>0)*('Corona timeline'!$D$5:$D$16<=(StartDateWindow+WindowDays-1)), 0))} -> #N/A | F22: =OFFSET(E22,-$D$11,) -> -5
E23: {=INDEX('Corona timeline'!$B$5:$B$16,MATCH(1, ('Corona timeline'!$B$5:$B$16>E22)*(('Corona timeline'!$D$5:$D$16>=StartDateWindow)+('Corona timeline'!$E$5:$E$16>=StartDateWindow)>0)*('Corona timeline'!$D$5:$D$16<=(StartDateWindow+WindowDays-1)), 0))} -> #N/A | F23: =OFFSET(E23,-$D$11,) -> -4
C25: Calc Window Start | D25: =StartDate+WindowOffset -> 3/10/2020
C26: Offset | D26: 4
C28: Start | D28: ='Corona timeline'!D3 -> 6-Mar
C29: Window | D29: 30
A31: Position | B31: Series | C31: Activity Id | D31: Activity | E31: =StartDateWindow -> 3/10/2020 | F31: =E31+1 -> 3/11/2020 | G31: =F31+1 -> 3/12/2020 | H31: =G31+1 -> 3/13/2020 | I31: =H31+1 -> 3/14/2020 | J31: =I31+1 -> 3/15/2020 | K31: =J31+1 -> 3/16/2020 | L31: =K31+1 -> 3/17/2020 | M31: =L31+1 -> 3/18/2020 | ... AI31: =AH31+1 -> 4/9/2020
A32: 11.3 | B32: 1 | C32: =F15 -> #N/A | D32: {=INDEX('Corona timeline'!$C$5:$C$16,MATCH($C32,'Corona timeline'!$B$5:$B$16,0))} -> #N/A | E32: =GridCalc -> #NAME? | F32: =GridCalc -> #NAME? | G32: =GridCalc -> #NAME? | H32: =GridCalc -> #NAME? | I32: =GridCalc -> #NAME? | J32: =GridCalc -> #NAME? | K32: =GridCalc -> #NAME? | L32: =GridCalc -> #NAME? | ... AI32: =GridCalc -> #NAME?
A33: =A32-1 -> 10.3 | B33: 2 | C33: =F16 -> #N/A | D33: {=INDEX('Corona timeline'!$C$5:$C$16,MATCH($C33,'Corona timeline'!$B$5:$B$16,0))} -> #N/A | E33: =GridCalc -> #NAME? | F33: =GridCalc -> #NAME? | G33: =GridCalc -> #NAME? | H33: =GridCalc -> #NAME? | I33: =GridCalc -> #NAME? | J33: =GridCalc -> #NAME? | K33: =GridCalc -> #NAME? | L33: =GridCalc -> #NAME? | ... AI33: =GridCalc -> #NAME?
A34: =A33-1 -> 9.3 | B34: 3 | C34: =F17 -> #N/A | D34: {=INDEX('Corona timeline'!$C$5:$C$16,MATCH($C34,'Corona timeline'!$B$5:$B$16,0))} -> #N/A | E34: =GridCalc -> #NAME? | F34: =GridCalc -> #NAME? | G34: =GridCalc -> #NAME? | H34: =GridCalc -> #NAME? | I34: =GridCalc -> #NAME? | J34: =GridCalc -> #NAME? | K34: =GridCalc -> #NAME? | L34: =GridCalc -> #NAME? | ... AI34: =GridCalc -> #NAME?
A35: =A34-1 -> 8.3 | B35: 4 | C35: =F18 -> #N/A | D35: {=INDEX('Corona timeline'!$C$5:$C$16,MATCH($C35,'Corona timeline'!$B$5:$B$16,0))} -> #N/A | E35: =GridCalc -> #NAME? | F35: =GridCalc -> #NAME? | G35: =GridCalc -> #NAME? | H35: =GridCalc -> #NAME? | I35: =GridCalc -> #NAME? | J35: =GridCalc -> #NAME? | K35: =GridCalc -> #NAME? | L35: =GridCalc -> #NAME? | ... AI35: =GridCalc -> #NAME?
A36: =A35-1 -> 7.3 | B36: 5 | C36: =F19 -> #N/A | D36: {=INDEX('Corona timeline'!$C$5:$C$16,MATCH($C36,'Corona timeline'!$B$5:$B$16,0))} -> #N/A | E36: =GridCalc -> #NAME? | F36: =GridCalc -> #NAME? | G36: =GridCalc -> #NAME? | H36: =GridCalc -> #NAME? | I36: =GridCalc -> #NAME? | J36: =GridCalc -> #NAME? | K36: =GridCalc -> #NAME? | L36: =GridCalc -> #NAME? | ... AI36: =GridCalc -> #NAME?
A37: =A36-1 -> 6.3 | B37: 6 | C37: =F20 -> #N/A | D37: {=INDEX('Corona timeline'!$C$5:$C$16,MATCH($C37,'Corona timeline'!$B$5:$B$16,0))} -> #N/A | E37: =GridCalc -> #NAME? | F37: =GridCalc -> #NAME? | G37: =GridCalc -> #NAME? | H37: =GridCalc -> #NAME? | I37: =GridCalc -> #NAME? | J37: =GridCalc -> #NAME? | K37: =GridCalc -> #NAME? | L37: =GridCalc -> #NAME? | ... AI37: =GridCalc -> #NAME?
A38: =A37-1 -> 5.3 | B38: 7 | C38: =F21 -> -6 | D38: {=INDEX('Corona timeline'!$C$5:$C$16,MATCH($C38,'Corona timeline'!$B$5:$B$16,0))} -> First covid-19 death | E38: =GridCalc -> #NAME? | F38: =GridCalc -> #NAME? | G38: =GridCalc -> #NAME? | H38: =GridCalc -> #NAME? | I38: =GridCalc -> #NAME? | J38: =GridCalc -> #NAME? | K38: =GridCalc -> #NAME? | L38: =GridCalc -> #NAME? | ... AI38: =GridCalc -> #NAME?
A39: =A38-1 -> 4.3 | B39: 8 | C39: =F22 -> -5 | D39: {=INDEX('Corona timeline'!$C$5:$C$16,MATCH($C39,'Corona timeline'!$B$5:$B$16,0))} -> Social Distance | E39: =GridCalc -> #NAME? | F39: =GridCalc -> #NAME? | G39: =GridCalc -> #NAME? | H39: =GridCalc -> #NAME? | I39: =GridCalc -> #NAME? | J39: =GridCalc -> #NAME? | K39: =GridCalc -> #NAME? | L39: =GridCalc -> #NAME? | ... AI39: =GridCalc -> #NAME?
A40: =A39-1 -> 3.3 | B40: 9 | C40: =F23 -> -4 | D40: {=INDEX('Corona timeline'!$C$5:$C$16,MATCH($C40,'Corona timeline'!$B$5:$B$16,0))} -> First recovery | E40: =GridCalc -> #NAME? | F40: =GridCalc -> #NAME? | G40: =GridCalc -> #NAME? | H40: =GridCalc -> #NAME? | I40: =GridCalc -> #NAME? | J40: =GridCalc -> #NAME? | K40: =GridCalc -> #NAME? | L40: =GridCalc -> #NAME? | ... AI40: =GridCalc -> #NAME?
E43: =E31 -> 3/10/2020 | F43: =F31 -> 3/11/2020 | G43: =G31 -> 3/12/2020 | H43: =H31 -> 3/13/2020 | I43: =I31 -> 3/14/2020 | J43: =J31 -> 3/15/2020 | K43: =K31 -> 3/16/2020 | L43: =L31 -> 3/17/2020 | ... AH43: =AH31 -> 4/8/2020
C44: =C32 -> #N/A | D44: {=UPPER(INDEX('Corona timeline'!$C$5:$C$16,MATCH($C44,'Corona timeline'!$B$5:$B$16,0)))} -> #N/A | E44: =IF(ISERROR(F32),E32,NA()) -> #NAME? | F44: =IF(ISERROR(G32),F32,NA()) -> #NAME? | G44: =IF(ISERROR(H32),G32,NA()) -> #NAME? | H44: =IF(ISERROR(I32),H32,NA()) -> #NAME? | I44: =IF(ISERROR(J32),I32,NA()) -> #NAME? | J44: =IF(ISERROR(K32),J32,NA()) -> #NAME? | K44: =IF(ISERROR(L32),K32,NA()) -> #NAME? | L44: =IF(ISERROR(M32),L32,NA()) -> #NAME? | ... AH44: =IF(ISERROR(AI32),AH32,NA()) -> #NAME?
C45: =C33 -> #N/A | D45: {=UPPER(INDEX('Corona timeline'!$C$5:$C$16,MATCH($C45,'Corona timeline'!$B$5:$B$16,0)))} -> #N/A | E45: =IF(ISERROR(F33),E33,NA()) -> #NAME? | F45: =IF(ISERROR(G33),F33,NA()) -> #NAME? | G45: =IF(ISERROR(H33),G33,NA()) -> #NAME? | H45: =IF(ISERROR(I33),H33,NA()) -> #NAME? | I45: =IF(ISERROR(J33),I33,NA()) -> #NAME? | J45: =IF(ISERROR(K33),J33,NA()) -> #NAME? | K45: =IF(ISERROR(L33),K33,NA()) -> #NAME? | L45: =IF(ISERROR(M33),L33,NA()) -> #NAME? | ... AH45: =IF(ISERROR(AI33),AH33,NA()) -> #NAME?
C46: =C34 -> #N/A | D46: {=UPPER(INDEX('Corona timeline'!$C$5:$C$16,MATCH($C46,'Corona timeline'!$B$5:$B$16,0)))} -> #N/A | E46: =IF(ISERROR(F34),E34,NA()) -> #NAME? | F46: =IF(ISERROR(G34),F34,NA()) -> #NAME? | G46: =IF(ISERROR(H34),G34,NA()) -> #NAME? | H46: =IF(ISERROR(I34),H34,NA()) -> #NAME? | I46: =IF(ISERROR(J34),I34,NA()) -> #NAME? | J46: =IF(ISERROR(K34),J34,NA()) -> #NAME? | K46: =IF(ISERROR(L34),K34,NA()) -> #NAME? | L46: =IF(ISERROR(M34),L34,NA()) -> #NAME? | ... AH46: =IF(ISERROR(AI34),AH34,NA()) -> #NAME?
...
