Workbook
Name StartDate: calcs!$D$28
Name WindowOffset: calcs!$D$26
Name StartDateWindow: calcs!$D$25
Name RowTitleRegion1..D3: 'Corona timeline'!$C$3
Name WindowDays: calcs!$D$29

Sheet Corona timeline
C1: CORONA Timeline in Pennyslavia
C2: Chart showing project activities with a scrollable timeline is in this cell.
C3: ENTER START DATE: | D3: 43896
B4: Id | C4: ACTIVITY | D4: START | E4: END | F4: NOTES
B5: =ROW(B5)-calcs!$D$5 -> -7 | C5: FIRST CASE RECORDED | D5: =$D$3+3 -> 3/9/2020 | F5: The first corona patient tested positive
B6: =ROW(B6)-calcs!$D$5 -> -6 | C6: First covid-19 death | D6: =D5+5 -> 3/14/2020
B7: =ROW(B7)-calcs!$D$5 -> -5 | C7: Social Distance | D7: =D6+1 -> 3/15/2020
B8: =ROW(B8)-calcs!$D$5 -> -4 | C8: First recovery | D8: =D7+18 -> 4/2/2020
B9: =ROW(B9)-calcs!$D$5 -> -3 | C9: Partial lock down | D9: =D8+10 -> 4/12/2020 | E9: ='Corona timeline'!$D9+15 -> 4/27/2020
B10: =ROW(B10)-calcs!$D$5 -> -2 | C10: Schools Open | D10: =D9+20 -> 5/2/2020 | E10: ='Corona timeline'!$D10+2 -> 5/4/2020
B11: =ROW(B11)-calcs!$D$5 -> -1
B12: =ROW(B12)-calcs!$D$5 -> 0
B13: =ROW(B13)-calcs!$D$5 -> 1
B14: =ROW(B14)-calcs!$D$5 -> 2
B15: =ROW(B15)-calcs!$D$5 -> 3
B16: =ROW(B16)-calcs!$D$5 -> 4

Sheet calcs
A1: *** This sheet should remain hidden ***
C3: Today: | D3: =TODAY() -> 5/14/2020
D4: 5
C5: # of rows | D5: =ROWS('Corona timeline'!$B$5:$F$16) -> 12
E6: =NA() -> #N/A
E7: =NA() -> #N/A
E8: =NA() -> #N/A
C9: Window Activities: | D9: =SUMPRODUCT( (('Corona timeline'!$D$5:$D$16>=StartDateWindow)+('Corona timeline'!$E$5:$E$16>=StartDateWindow)>0)*('Corona timeline'!$D$5:$D$16<=(StartDateWindow+WindowDays-1)) ) -> 3 | E9: =NA() -> #N/A
D10: 9 | E10: =NA() -> #N/A
D11: =D10-MIN(D10,D9) -> 6 | E11: =NA() -> #N/A
E12: =NA() -> #N/A
E13: =NA() -> #N/A
E14: =NA() -> #N/A
E15: {=INDEX('Corona timeline'!$B$5:$B$16,MATCH(1, (('Corona timeline'!$D$5:$D$16>=StartDateWindow)+('Corona timeline'!$E$5:$E$16>=StartDateWindow)>0)*('Corona timeline'!$D$5:$D$16<=(StartDateWindow+WindowDays-1)), 0))} -> -6 | F15: =OFFSET(E15,-$D$11,) -> #N/A
E16: {=INDEX('Corona timeline'!$B$5:$B$16,MATCH(1, ('Corona timeline'!$B$5:$B$16>E15)*(('Corona timeline'!$D$5:$D$16>=StartDateWindow)+('Corona timeline'!$E$5:$E$16>=StartDateWindow)>0)*('Corona timeline'!$D$5:$D$16<=(StartDateWindow+WindowDays-1)), 0))} -> -5 | F16: =OFFSET(E16,-$D$11,) -> #N/A
E17: {=INDEX('Corona timeline'!$B$5:$B$16,MATCH(1, ('Corona timeline'!$B$5:$B$16>E16)*(('Corona timeline'!$D$5:$D$16>=StartDateWindow)+('Corona timeline'!$E$5:$E$16>=StartDateWindow)>0)*('Corona timeline'!$D$5:$D$16<=(StartDateWindow+WindowDays-1)), 0))} -> -4 | F17: =OFFSET(E17,-$D$11,) -> #N/A
E18: {=INDEX('Corona timeline'!$B$5:$B$16,MATCH(1, ('Corona timeline'!$B$5:$B$16>E17)*(('Corona timeline'!$D$5:$D$16>=StartDateWindow)+('Corona timeline'!$E$5:$E$16>=StartDateWindow)>0)*('Corona timeline'!$D$5:$D$16<=(StartDateWindow+WindowDays-1)), 0))} -> #N/A | F18: =OFFSET(E18,-$D$11,) -> #N/A
E19: {=INDEX('Corona timeline'!$B$5:$B$16,MATCH(1, ('Corona timeline'!$B$5:$B$16>E18)*(('Corona timeline'!$D$5:$D$16>=StartDateWindow)+('Corona timeline'!$E$5:$E$16>=StartDateWindow)>0)*('Corona timeline'!$D$5:$D$16<=(StartDateWindow+WindowDays-1)), 0))} -> #N/A | F19: =OFFSET(E19,-$D$11,) -> #N/A
E20: {=INDEX('Corona timeline'!$B$5:$B$16,MATCH(1, ('Corona timeline'!$B$5:$B$16>E19)*(('Corona timeline'!$D$5:$D$16>=StartDateWindow)+('Corona timeline'!$E$5:$E$16>=StartDateWindow)>0)*('Corona timeline'!$D$5:$D$16<=(StartDateWindow+WindowDays-1)), 0))} -> #N/A | F20: =OFFSET(E20,-$D$11,) -> #N/A
E21: {=INDEX('Corona timeline'!$B$5:$B$16,MATCH(1, ('Corona timeline'!$B$5:$B$16>E20)*(('Corona timeline'!$D$5:$D$16>=StartDateWindow)+('Corona timeline'!$E$5:$E$16>=StartDateWindow)>0)*('Corona timeline'!$D$5:$D$16<=(StartDateWindow+WindowDays-1)), 0))} -> #N/A | F21: =OFFSET(E21,-$D$11,) -> -6
E22: {=INDEX('Corona timeline'!$B$5:$B$16,MATCH(1, ('Corona timeline'!$B$5:$B$16>E21)*(('Corona timeline'!$D$5:$D$16>=StartDateWindow)+('Corona timeline'!$E$5:$E$16>=StartDateWindow)>0)*('Corona timeline'!$D$5:$D$16<=(StartDateWindow+WindowDays-1)), 0))} -> #N/A | F22: =OFFSET(E22,-$D$11,) -> -5
E23: {=INDEX('Corona timeline'!$B$5:$B$16,MATCH(1, ('Corona timeline'!$B$5:$B$16>E22)*(('Corona timeline'!$D$5:$D$16>=StartDateWindow)+('Corona timeline'!$E$5:$E$16>=StartDateWindow)>0)*('Corona timeline'!$D$5:$D$16<=(StartDateWindow+WindowDays-1)), 0))} -> #N/A | F23: =OFFSET(E23,-$D$11,) -> -4
C25: Calc Window Start | D25: =StartDate+WindowOffset -> 3/10/2020
C26: Offset | D26: 4
C28: Start | D28: ='Corona timeline'!D3 -> 6-Mar
C29: Window | D29: 30
A31: Position | B31: Series | C31: Activity Id | D31: Activity | E31: =StartDateWindow -> 3/10/2020 | F31: =E31+1 -> 3/11/2020 | G31: =F31+1 -> 3/12/2020 | H31: =G31+1 -> 3/13/2020 | I31: =H31+1 -> 3/14/2020 | J31: =I31+1 -> 3/15/2020 | K31: =J31+1 -> 3/16/2020 | L31: =K31+1 -> 3/17/2020 | M31: =L31+1 -> 3/18/2020 | ... AI31: =AH31+1 -> 4/9/2020
A32: 11.3 | B32: 1 | C32: =F15 -> #N/A | D32: {=INDEX('Corona timeline'!$C$5:$C$16,MATCH($C32,'Corona timeline'!$B$5:$B$16,0))} -> #N/A | E32: =GridCalc -> #NAME? | F32: =GridCalc -> #NAME? | G32: =GridCalc -> #NAME? | H32: =GridCalc -> #NAME? | I32: =GridCalc -> #NAME? | J32: =GridCalc -> #NAME? | K32: =GridCalc -> #NAME? | L32: =GridCalc -> #NAME? | ... AI32: =GridCalc -> #NAME?
A33: =A32-1 -> 10.3 | B33: 2 | C33: =F16 -> #N/A | D33: {=INDEX('Corona timeline'!$C$5:$C$16,MATCH($C33,'Corona timeline'!$B$5:$B$16,0))} -> #N/A | E33: =GridCalc -> #NAME? | F33: =GridCalc -> #NAME? | G33: =GridCalc -> #NAME? | H33: =GridCalc -> #NAME? | I33: =GridCalc -> #NAME? | J33: =GridCalc -> #NAME? | K33: =GridCalc -> #NAME? | L33: =GridCalc -> #NAME? | ... AI33: =GridCalc -> #NAME?
A34: =A33-1 -> 9.3 | B34: 3 | C34: =F17 -> #N/A | D34: {=INDEX('Corona timeline'!$C$5:$C$16,MATCH($C34,'Corona timeline'!$B$5:$B$16,0))} -> #N/A | E34: =GridCalc -> #NAME? | F34: =GridCalc -> #NAME? | G34: =GridCalc -> #NAME? | H34: =GridCalc -> #NAME? | I34: =GridCalc -> #NAME? | J34: =GridCalc -> #NAME? | K34: =GridCalc -> #NAME? | L34: =GridCalc -> #NAME? | ... AI34: =GridCalc -> #NAME?
A35: =A34-1 -> 8.3 | B35: 4 | C35: =F18 -> #N/A | D35: {=INDEX('Corona timeline'!$C$5:$C$16,MATCH($C35,'Corona timeline'!$B$5:$B$16,0))} -> #N/A | E35: =GridCalc -> #NAME? | F35: =GridCalc -> #NAME? | G35: =GridCalc -> #NAME? | H35: =GridCalc -> #NAME? | I35: =GridCalc -> #NAME? | J35: =GridCalc -> #NAME? | K35: =GridCalc -> #NAME? | L35: =GridCalc -> #NAME? | ... AI35: =GridCalc -> #NAME?
A36: =A35-1 -> 7.3 | B36: 5 | C36: =F19 -> #N/A | D36: {=INDEX('Corona timeline'!$C$5:$C$16,MATCH($C36,'Corona timeline'!$B$5:$B$16,0))} -> #N/A | E36: =GridCalc -> #NAME? | F36: =GridCalc -> #NAME? | G36: =GridCalc -> #NAME? | H36: =GridCalc -> #NAME? | I36: =GridCalc -> #NAME? | J36: =GridCalc -> #NAME? | K36: =GridCalc -> #NAME? | L36: =GridCalc -> #NAME? | ... AI36: =GridCalc -> #NAME?
A37: =A36-1 -> 6.3 | B37: 6 | C37: =F20 -> #N/A | D37: {=INDEX('Corona timeline'!$C$5:$C$16,MATCH($C37,'Corona timeline'!$B$5:$B$16,0))} -> #N/A | E37: =GridCalc -> #NAME? | F37: =GridCalc -> #NAME? | G37: =GridCalc -> #NAME? | H37: =GridCalc -> #NAME? | I37: =GridCalc -> #NAME? | J37: =GridCalc -> #NAME? | K37: =GridCalc -> #NAME? | L37: =GridCalc -> #NAME? | ... AI37: =GridCalc -> #NAME?
A38: =A37-1 -> 5.3 | B38: 7 | C38: =F21 -> -6 | D38: {=INDEX('Corona timeline'!$C$5:$C$16,MATCH($C38,'Corona timeline'!$B$5:$B$16,0))} -> First covid-19 death | E38: =GridCalc -> #NAME? | F38: =GridCalc -> #NAME? | G38: =GridCalc -> #NAME? | H38: =GridCalc -> #NAME? | I38: =GridCalc -> #NAME? | J38: =GridCalc -> #NAME? | K38: =GridCalc -> #NAME? | L38: =GridCalc -> #NAME? | ... AI38: =GridCalc -> #NAME?
A39: =A38-1 -> 4.3 | B39: 8 | C39: =F22 -> -5 | D39: {=INDEX('Corona timeline'!$C$5:$C$16,MATCH($C39,'Corona timeline'!$B$5:$B$16,0))} -> Social Distance | E39: =GridCalc -> #NAME? | F39: =GridCalc -> #NAME? | G39: =GridCalc -> #NAME? | H39: =GridCalc -> #NAME? | I39: =GridCalc -> #NAME? | J39: =GridCalc -> #NAME? | K39: =GridCalc -> #NAME? | L39: =GridCalc -> #NAME? | ... AI39: =GridCalc -> #NAME?
A40: =A39-1 -> 3.3 | B40: 9 | C40: =F23 -> -4 | D40: {=INDEX('Corona timeline'!$C$5:$C$16,MATCH($C40,'Corona timeline'!$B$5:$B$16,0))} -> First recovery | E40: =GridCalc -> #NAME? | F40: =GridCalc -> #NAME? | G40: =GridCalc -> #NAME? | H40: =GridCalc -> #NAME? | I40: =GridCalc -> #NAME? | J40: =GridCalc -> #NAME? | K40: =GridCalc -> #NAME? | L40: =GridCalc -> #NAME? | ... AI40: =GridCalc -> #NAME?
E43: =E31 -> 3/10/2020 | F43: =F31 -> 3/11/2020 | G43: =G31 -> 3/12/2020 | H43: =H31 -> 3/13/2020 | I43: =I31 -> 3/14/2020 | J43: =J31 -> 3/15/2020 | K43: =K31 -> 3/16/2020 | L43: =L31 -> 3/17/2020 | ... AH43: =AH31 -> 4/8/2020
C44: =C32 -> #N/A | D44: {=UPPER(INDEX('Corona timeline'!$C$5:$C$16,MATCH($C44,'Corona timeline'!$B$5:$B$16,0)))} -> #N/A | E44: =IF(ISERROR(F32),E32,NA()) -> #NAME? | F44: =IF(ISERROR(G32),F32,NA()) -> #NAME? | G44: =IF(ISERROR(H32),G32,NA()) -> #NAME? | H44: =IF(ISERROR(I32),H32,NA()) -> #NAME? | I44: =IF(ISERROR(J32),I32,NA()) -> #NAME? | J44: =IF(ISERROR(K32),J32,NA()) -> #NAME? | K44: =IF(ISERROR(L32),K32,NA()) -> #NAME? | L44: =IF(ISERROR(M32),L32,NA()) -> #NAME? | ... AH44: =IF(ISERROR(AI32),AH32,NA()) -> #NAME?
C45: =C33 -> #N/A | D45: {=UPPER(INDEX('Corona timeline'!$C$5:$C$16,MATCH($C45,'Corona timeline'!$B$5:$B$16,0)))} -> #N/A | E45: =IF(ISERROR(F33),E33,NA()) -> #NAME? | F45: =IF(ISERROR(G33),F33,NA()) -> #NAME? | G45: =IF(ISERROR(H33),G33,NA()) -> #NAME? | H45: =IF(ISERROR(I33),H33,NA()) -> #NAME? | I45: =IF(ISERROR(J33),I33,NA()) -> #NAME? | J45: =IF(ISERROR(K33),J33,NA()) -> #NAME? | K45: =IF(ISERROR(L33),K33,NA()) -> #NAME? | L45: =IF(ISERROR(M33),L33,NA()) -> #NAME? | ... AH45: =IF(ISERROR(AI33),AH33,NA()) -> #NAME?
C46: =C34 -> #N/A | D46: {=UPPER(INDEX('Corona timeline'!$C$5:$C$16,MATCH($C46,'Corona timeline'!$B$5:$B$16,0)))} -> #N/A | E46: =IF(ISERROR(F34),E34,NA()) -> #NAME? | F46: =IF(ISERROR(G34),F34,NA()) -> #NAME? | G46: =IF(ISERROR(H34),G34,NA()) -> #NAME? | H46: =IF(ISERROR(I34),H34,NA()) -> #NAME? | I46: =IF(ISERROR(J34),I34,NA()) -> #NAME? | J46: =IF(ISERROR(K34),J34,NA()) -> #NAME? | K46: =IF(ISERROR(L34),K34,NA()) -> #NAME? | L46: =IF(ISERROR(M34),L34,NA()) -> #NAME? | ... AH46: =IF(ISERROR(AI34),AH34,NA()) -> #NAME?
C47: =C35 -> #N/A | D47: {=UPPER(INDEX('Corona timeline'!$C$5:$C$16,MATCH($C47,'Corona timeline'!$B$5:$B$16,0)))} -> #N/A | E47: =IF(ISERROR(F35),E35,NA()) -> #NAME? | F47: =IF(ISERROR(G35),F35,NA()) -> #NAME? | G47: =IF(ISERROR(H35),G35,NA()) -> #NAME? | H47: =IF(ISERROR(I35),H35,NA()) -> #NAME? | I47: =IF(ISERROR(J35),I35,NA()) -> #NAME? | J47: =IF(ISERROR(K35),J35,NA()) -> #NAME? | K47: =IF(ISERROR(L35),K35,NA()) -> #NAME? | L47: =IF(ISERROR(M35),L35,NA()) -> #NAME? | ... AH47: =IF(ISERROR(AI35),AH35,NA()) -> #NAME?
C48: =C36 -> #N/A | D48: {=UPPER(INDEX('Corona timeline'!$C$5:$C$16,MATCH($C48,'Corona timeline'!$B$5:$B$16,0)))} -> #N/A | E48: =IF(ISERROR(F36),E36,NA()) -> #NAME? | F48: =IF(ISERROR(G36),F36,NA()) -> #NAME? | G48: =IF(ISERROR(H36),G36,NA()) -> #NAME? | H48: =IF(ISERROR(I36),H36,NA()) -> #NAME? | I48: =IF(ISERROR(J36),I36,NA()) -> #NAME? | J48: =IF(ISERROR(K36),J36,NA()) -> #NAME? | K48: =IF(ISERROR(L36),K36,NA()) -> #NAME? | L48: =IF(ISERROR(M36),L36,NA()) -> #NAME? | ... AH48: =IF(ISERROR(AI36),AH36,NA()) -> #NAME?
C49: =C37 -> #N/A | D49: {=UPPER(INDEX('Corona timeline'!$C$5:$C$16,MATCH($C49,'Corona timeline'!$B$5:$B$16,0)))} -> #N/A | E49: =IF(ISERROR(F37),E37,NA()) -> #NAME? | F49: =IF(ISERROR(G37),F37,NA()) -> #NAME? | G49: =IF(ISERROR(H37),G37,NA()) -> #NAME? | H49: =IF(ISERROR(I37),H37,NA()) -> #NAME? | I49: =IF(ISERROR(J37),I37,NA()) -> #NAME? | J49: =IF(ISERROR(K37),J37,NA()) -> #NAME? | K49: =IF(ISERROR(L37),K37,NA()) -> #NAME? | L49: =IF(ISERROR(M37),L37,NA()) -> #NAME? | ... AH49: =IF(ISERROR(AI37),AH37,NA()) -> #NAME?
C50: =C38 -> -6 | D50: {=UPPER(INDEX('Corona timeline'!$C$5:$C$16,MATCH($C50,'Corona timeline'!$B$5:$B$16,0)))} -> FIRST COVID-19 DEATH | E50: =IF(ISERROR(F38),E38,NA()) -> #NAME? | F50: =IF(ISERROR(G38),F38,NA()) -> #NAME? | G50: =IF(ISERROR(H38),G38,NA()) -> #NAME? | H50: =IF(ISERROR(I38),H38,NA()) -> #NAME? | I50: =IF(ISERROR(J38),I38,NA()) -> #NAME? | J50: =IF(ISERROR(K38),J38,NA()) -> #NAME? | K50: =IF(ISERROR(L38),K38,NA()) -> #NAME? | L50: =IF(ISERROR(M38),L38,NA()) -> #NAME? | ... AH50: =IF(ISERROR(AI38),AH38,NA()) -> #NAME?
C51: =C39 -> -5 | D51: {=UPPER(INDEX('Corona timeline'!$C$5:$C$16,MATCH($C51,'Corona timeline'!$B$5:$B$16,0)))} -> SOCIAL DISTANCE | E51: =IF(ISERROR(F39),E39,NA()) -> #NAME? | F51: =IF(ISERROR(G39),F39,NA()) -> #NAME? | G51: =IF(ISERROR(H39),G39,NA()) -> #NAME? | H51: =IF(ISERROR(I39),H39,NA()) -> #NAME? | I51: =IF(ISERROR(J39),I39,NA()) -> #NAME? | J51: =IF(ISERROR(K39),J39,NA()) -> #NAME? | K51: =IF(ISERROR(L39),K39,NA()) -> #NAME? | L51: =IF(ISERROR(M39),L39,NA()) -> #NAME? | ... AH51: =IF(ISERROR(AI39),AH39,NA()) -> #NAME?
C52: =C40 -> -4 | D52: {=UPPER(INDEX('Corona timeline'!$C$5:$C$16,MATCH($C52,'Corona timeline'!$B$5:$B$16,0)))} -> FIRST RECOVERY | E52: =IF(ISERROR(F40),E40,NA()) -> #NAME? | F52: =IF(ISERROR(G40),F40,NA()) -> #NAME? | G52: =IF(ISERROR(H40),G40,NA()) -> #NAME? | H52: =IF(ISERROR(I40),H40,NA()) -> #NAME? | I52: =IF(ISERROR(J40),I40,NA()) -> #NAME? | J52: =IF(ISERROR(K40),J40,NA()) -> #NAME? | K52: =IF(ISERROR(L40),K40,NA()) -> #NAME? | L52: =IF(ISERROR(M40),L40,NA()) -> #NAME? | ... AH52: =IF(ISERROR(AI40),AH40,NA()) -> #NAME?
E55: =E31 -> 3/10/2020 | F55: =F31 -> 3/11/2020 | G55: =G31 -> 3/12/2020 | H55: =H31 -> 3/13/2020 | I55: =I31 -> 3/14/2020 | J55: =J31 -> 3/15/2020 | K55: =K31 -> 3/16/2020 | L55: =L31 -> 3/17/2020 | ... AH55: =AH31 -> 4/8/2020
D56: Current Day | E56: =IF(E55=$D$3,5,NA()) -> #N/A | F56: =IF(F55=$D$3,5,NA()) -> #N/A | G56: =IF(G55=$D$3,5,NA()) -> #N/A | H56: =IF(H55=$D$3,5,NA()) -> #N/A | I56: =IF(I55=$D$3,5,NA()) -> #N/A | J56: =IF(J55=$D$3,5,NA()) -> #N/A | K56: =IF(K55=$D$3,5,NA()) -> #N/A | L56: =IF(L55=$D$3,5,NA()) -> #N/A | ... AH56: =IF(AH55=$D$3,5,NA()) -> #N/A
D58: =DATE(YEAR(MIN(E55:AH55)),MONTH(MIN(E55:AH55)),1) -> Mar 2020 | E58: =IF(MEDIAN($D58,E$55,EOMONTH($D58,0))=E$55,0.5,NA()) -> 0.5 | F58: =IF(MEDIAN($D58,F$55,EOMONTH($D58,0))=F$55,0.5,NA()) -> 0.5 | G58: =IF(MEDIAN($D58,G$55,EOMONTH($D58,0))=G$55,0.5,NA()) -> 0.5 | H58: =IF(MEDIAN($D58,H$55,EOMONTH($D58,0))=H$55,0.5,NA()) -> 0.5 | I58: =IF(MEDIAN($D58,I$55,EOMONTH($D58,0))=I$55,0.5,NA()) -> 0.5 | J58: =IF(MEDIAN($D58,J$55,EOMONTH($D58,0))=J$55,0.5,NA()) -> 0.5 | K58: =IF(MEDIAN($D58,K$55,EOMONTH($D58,0))=K$55,0.5,NA()) -> 0.5 | L58: =IF(MEDIAN($D58,L$55,EOMONTH($D58,0))=L$55,0.5,NA()) -> 0.5 | ... AH58: =IF(MEDIAN($D58,AH$55,EOMONTH($D58,0))=AH$55,0.5,NA()) -> #N/A
D59: =TEXT(D58,"mmm yyyy") & " - Top Band" -> Mar 2020 - Top Band | E59: =E58+12.5 -> 13 | F59: =F58+12.5 -> 13 | G59: =G58+12.5 -> 13 | H59: =H58+12.5 -> 13 | I59: =I58+12.5 -> 13 | J59: =J58+12.5 -> 13 | K59: =K58+12.5 -> 13 | L59: =L58+12.5 -> 13 | ... AH59: =AH58+12.5 -> #N/A
D61: =EOMONTH(D58,0)+1 -> Apr 2020 | E61: =IF(MEDIAN($D61,E$55,EOMONTH($D61,0))=E$55,0.5,NA()) -> #N/A | F61: =IF(MEDIAN($D61,F$55,EOMONTH($D61,0))=F$55,0.5,NA()) -> #N/A | G61: =IF(MEDIAN($D61,G$55,EOMONTH($D61,0))=G$55,0.5,NA()) -> #N/A | H61: =IF(MEDIAN($D61,H$55,EOMONTH($D61,0))=H$55,0.5,NA()) -> #N/A | I61: =IF(MEDIAN($D61,I$55,EOMONTH($D61,0))=I$55,0.5,NA()) -> #N/A | J61: =IF(MEDIAN($D61,J$55,EOMONTH($D61,0))=J$55,0.5,NA()) -> #N/A | K61: =IF(MEDIAN($D61,K$55,EOMONTH($D61,0))=K$55,0.5,NA()) -> #N/A | L61: =IF(MEDIAN($D61,L$55,EOMONTH($D61,0))=L$55,0.5,NA()) -> #N/A | ... AH61: =IF(MEDIAN($D61,AH$55,EOMONTH($D61,0))=AH$55,0.5,NA()) -> 0.5
D62: =TEXT(D61,"mmm yyyy") & " - Top Band" -> Apr 2020 - Top Band | E62: =E61+12.5 -> #N/A | F62: =F61+12.5 -> #N/A | G62: =G61+12.5 -> #N/A | H62: =H61+12.5 -> #N/A | I62: =I61+12.5 -> #N/A | J62: =J61+12.5 -> #N/A | K62: =K61+12.5 -> #N/A | L62: =L61+12.5 -> #N/A | ... AH62: =AH61+12.5 -> 13
D65: =D58+1 -> Mar 2020 | E65: =IF(MEDIAN($D65,E$55)=E$55,0.5,NA()) -> #N/A | F65: =IF(MEDIAN($D65,F$55)=F$55,0.5,NA()) -> #N/A | G65: =IF(MEDIAN($D65,G$55)=G$55,0.5,NA()) -> #N/A | H65: =IF(MEDIAN($D65,H$55)=H$55,0.5,NA()) -> #N/A | I65: =IF(MEDIAN($D65,I$55)=I$55,0.5,NA()) -> #N/A | J65: =IF(MEDIAN($D65,J$55)=J$55,0.5,NA()) -> #N/A | K65: =IF(MEDIAN($D65,K$55)=K$55,0.5,NA()) -> #N/A | L65: =IF(MEDIAN($D65,L$55)=L$55,0.5,NA()) -> #N/A | ... AH65: =IF(MEDIAN($D65,AH$55)=AH$55,0.5,NA()) -> #N/A
D66: =D61+1 -> Apr 2020 | E66: =IF(MEDIAN($D66,E$55)=E$55,0.5,NA()) -> #N/A | F66: =IF(MEDIAN($D66,F$55)=F$55,0.5,NA()) -> #N/A | G66: =IF(MEDIAN($D66,G$55)=G$55,0.5,NA()) -> #N/A | H66: =IF(MEDIAN($D66,H$55)=H$55,0.5,NA()) -> #N/A | I66: =IF(MEDIAN($D66,I$55)=I$55,0.5,NA()) -> #N/A | J66: =IF(MEDIAN($D66,J$55)=J$55,0.5,NA()) -> #N/A | K66: =IF(MEDIAN($D66,K$55)=K$55,0.5,NA()) -> #N/A | L66: =IF(MEDIAN($D66,L$55)=L$55,0.5,NA()) -> #N/A | ... AH66: =IF(MEDIAN($D66,AH$55)=AH$55,0.5,NA()) -> #N/A
E69: 2.3 | F69: =E69 -> 2.3 | G69: =F69 -> 2.3 | H69: =G69 -> 2.3 | I69: =H69 -> 2.3 | J69: =I69 -> 2.3 | K69: =J69 -> 2.3 | L69: =K69 -> 2.3 | M69: =L69 -> 2.3 | ... AH69: =AG69 -> 2.3
D70: 3 | E70: =LEFT(UPPER(TEXT(E55,"ddd")),$D70) -> TUE | F70: =LEFT(UPPER(TEXT(F55,"ddd")),$D70) -> WED | G70: =LEFT(UPPER(TEXT(G55,"ddd")),$D70) -> THU | H70: =LEFT(UPPER(TEXT(H55,"ddd")),$D70) -> FRI | I70: =LEFT(UPPER(TEXT(I55,"ddd")),$D70) -> SAT | J70: =LEFT(UPPER(TEXT(J55,"ddd")),$D70) -> SUN | K70: =LEFT(UPPER(TEXT(K55,"ddd")),$D70) -> MON | L70: =LEFT(UPPER(TEXT(L55,"ddd")),$D70) -> TUE | ... AH70: =LEFT(UPPER(TEXT(AH55,"ddd")),$D70) -> WED
E71: 1.3 | F71: =E71 -> 1.3 | G71: =F71 -> 1.3 | H71: =G71 -> 1.3 | I71: =H71 -> 1.3 | J71: =I71 -> 1.3 | K71: =J71 -> 1.3 | L71: =K71 -> 1.3 | M71: =L71 -> 1.3 | ... AH71: =AG71 -> 1.3
E72: =TEXT(E55,"dd") -> 10 | F72: =TEXT(F55,"dd") -> 11 | G72: =TEXT(G55,"dd") -> 12 | H72: =TEXT(H55,"dd") -> 13 | I72: =TEXT(I55,"dd") -> 14 | J72: =TEXT(J55,"dd") -> 15 | K72: =TEXT(K55,"dd") -> 16 | L72: =TEXT(L55,"dd") -> 17 | ... AH72: =TEXT(AH55,"dd") -> 08
